BEGIN:VCALENDAR
VERSION:2.0
PRODID:-//The Greensboro Amateur Radio Association, Greensboro, NC - ECPv5.10.0//NONSGML v1.0//EN
CALSCALE:GREGORIAN
METHOD:PUBLISH
X-WR-CALNAME:The Greensboro Amateur Radio Association, Greensboro, NC
X-ORIGINAL-URL:https://www.w4gso.org
X-WR-CALDESC:Events for The Greensboro Amateur Radio Association, Greensboro, NC
BEGIN:VTIMEZONE
TZID:America/New_York
BEGIN:DAYLIGHT
TZOFFSETFROM:-0500
TZOFFSETTO:-0400
TZNAME:EDT
DTSTART:20210314T070000
END:DAYLIGHT
BEGIN:STANDARD
TZOFFSETFROM:-0400
TZOFFSETTO:-0500
TZNAME:EST
DTSTART:20211107T060000
END:STANDARD
END:VTIMEZONE
BEGIN:VEVENT
DTSTART;TZID=America/New_York:20211122T191500
DTEND;TZID=America/New_York:20211122T203000
DTSTAMP:20260425T123551
CREATED:20200123T120944Z
LAST-MODIFIED:20211122T132731Z
UID:1975-1637608500-1637613000@www.w4gso.org
SUMMARY:GARA Club Meeting – November 2021
DESCRIPTION:Also held online at https://meet.google.com/xvc-fdua-efc
URL:https://www.w4gso.org/event/gara-club-meeting-november/
LOCATION:Sarah’s Kabob Shop\, 5340 W Market St\, Greensboro\, NC\, 27409\, United States
CATEGORIES:GARA Meeting
ORGANIZER;CN="Scott%20Toth":MAILTO:nd4l@outlook.com
END:VEVENT
END:VCALENDAR